BEGIN:VCALENDAR
VERSION:2.0
PRODID:-//eventon.com NONSGML v1.0//EN
CALSCALE:GREGORIAN
METHOD:PUBLISH
BEGIN:VEVENT
UID:69e8bee9ccad6
DTSTAMP:20260422T122825Z
DTSTART:20260528T173000Z
DTEND:20260528T210000Z
LOCATION:
SUMMARY:Franco-German Science Diplomacy: facing global challenges together
DESCRIPTION:&nbsp; On the occasion of the 40th anniversary of the Franco-Ge
 rman scientific cooperation program Procope /PPP France\,  the French Embas
 sy in Germany is pleased to organise a special event on &nbsp; “Franco-Ge
 rman Science Diplomacy: facing global challenges together” &nbsp; THURSDA
 Y\,  MAY 28\,  2026\,  STARTING AT 5:30 P.M. &nbsp; With the[..]\nhttps://w
 ww.science-allemagne.fr/events/franco-german-science-diplomacy-facing-globa
 l-challenges-together/
URL:https://www.science-allemagne.fr/events/franco-german-science-diplomacy-facing-global-challenges-together/
END:VEVENT
END:VCALENDAR